BEGIN:VCALENDAR
VERSION:2.0
PRODID:spatie/icalendar-generator
DESCRIPTION:Events from Ceili of the Valley | Salem\, Oregon
X-WR-CALDESC:Events from Ceili of the Valley | Salem\, Oregon
REFRESH-INTERVAL;VALUE=DURATION:PT1440M
X-PUBLISHED-TTL:PT1440M
BEGIN:VTIMEZONE
TZID:America/Los_Angeles
BEGIN:STANDARD
DTSTART:20251102T020000Z
TZOFFSETFROM:-0700
TZOFFSETTO:-0800
END:STANDARD
BEGIN:DAYLIGHT
DTSTART:20260308T020000Z
TZOFFSETFROM:-0800
TZOFFSETTO:-0700
END:DAYLIGHT
END:VTIMEZONE
BEGIN:VTIMEZONE
TZID:UTC
BEGIN:STANDARD
DTSTART:20250728T100524Z
TZOFFSETFROM:+0000
TZOFFSETTO:+0000
END:STANDARD
END:VTIMEZONE
BEGIN:VEVENT
UID:537-100
DTSTAMP:20260424T100524Z
SUMMARY:2nd Friday Ceílí
LOCATION:
ORGANIZER;CN=Secretary:MAILTO:gslw3014@gmail.com
DTSTART;TZID=America/Los_Angeles:20260109T200000
DTEND;TZID=America/Los_Angeles:20260109T210000
X-ALT-DESC;FMTTYPE=TEXT/HTML:Live traditional Irish music. Doors open at 7:
 00 with dance instruction around 7:15. No experience or partner needed. Cl
 osed-toed shoes recommended. Live Music by: Biddy on the Bench || Dances c
 alled by: Emily Sullivan &amp;nbsp\;
CATEGORIES:dance,  General,  music
URL;VALUE=URI:https://ceiliofthevalley.org/mc-events/2nd-friday-ceili-16/
METHOD:PUBLISH
END:VEVENT
END:VCALENDAR