BEGIN:VCALENDAR
VERSION:2.0
PRODID:spatie/icalendar-generator
DESCRIPTION:Events from Ceili of the Valley | Salem\, Oregon
X-WR-CALDESC:Events from Ceili of the Valley | Salem\, Oregon
REFRESH-INTERVAL;VALUE=DURATION:PT1440M
X-PUBLISHED-TTL:PT1440M
BEGIN:VTIMEZONE
TZID:America/Los_Angeles
BEGIN:STANDARD
DTSTART:20251102T020000Z
TZOFFSETFROM:-0700
TZOFFSETTO:-0800
END:STANDARD
BEGIN:DAYLIGHT
DTSTART:20260308T020000Z
TZOFFSETFROM:-0800
TZOFFSETTO:-0700
END:DAYLIGHT
BEGIN:STANDARD
DTSTART:20261101T020000Z
TZOFFSETFROM:-0700
TZOFFSETTO:-0800
END:STANDARD
END:VTIMEZONE
BEGIN:VTIMEZONE
TZID:UTC
BEGIN:STANDARD
DTSTART:20250728T065338Z
TZOFFSETFROM:+0000
TZOFFSETTO:+0000
END:STANDARD
END:VTIMEZONE
BEGIN:VEVENT
UID:541-103
DTSTAMP:20260424T065338Z
SUMMARY:2nd Friday Ceili
LOCATION:
ORGANIZER;CN=Secretary:MAILTO:gslw3014@gmail.com
RRULE:FREQ=MONTHLY;BYDAY=2FR;UNTIL=20270108T000000Z
DTSTART;TZID=America/Los_Angeles:20260508T190000
DTEND;TZID=America/Los_Angeles:20260508T200000
X-ALT-DESC;FMTTYPE=TEXT/HTML:At VFW Hall\, 630 Hood Street NE\, Salem Live 
 music and called dances! Lesson about 7:15. No experience needed.
CATEGORIES:music
URL;VALUE=URI:https://ceiliofthevalley.org/mc-events/2nd-friday-ceili-17/?m
 c_id=541
METHOD:PUBLISH
END:VEVENT
END:VCALENDAR