BEGIN:VCALENDAR
VERSION:2.0
PRODID:spatie/icalendar-generator
DESCRIPTION:Events from Ceili of the Valley | Salem\, Oregon
X-WR-CALDESC:Events from Ceili of the Valley | Salem\, Oregon
REFRESH-INTERVAL;VALUE=DURATION:PT1440M
X-PUBLISHED-TTL:PT1440M
BEGIN:VTIMEZONE
TZID:America/Los_Angeles
BEGIN:STANDARD
DTSTART:20201101T020000Z
TZOFFSETFROM:-0700
TZOFFSETTO:-0800
END:STANDARD
BEGIN:DAYLIGHT
DTSTART:20210314T020000Z
TZOFFSETFROM:-0800
TZOFFSETTO:-0700
END:DAYLIGHT
END:VTIMEZONE
BEGIN:VTIMEZONE
TZID:UTC
BEGIN:STANDARD
DTSTART:20250728T131436Z
TZOFFSETFROM:+0000
TZOFFSETTO:+0000
END:STANDARD
END:VTIMEZONE
BEGIN:VEVENT
UID:111-8
DTSTAMP:20260424T131436Z
SUMMARY:Ceili of the Valley Annual Meeting
LOCATION:
ORGANIZER;CN=Secretary:MAILTO:gslw3014@gmail.com
DTSTART;TZID=America/Los_Angeles:20210202T194500
DTEND;TZID=America/Los_Angeles:20210202T204500
X-ALT-DESC;FMTTYPE=TEXT/HTML:This is an announcement of the 2021 Ceili of t
 he Valley Annual Meeting. It will be held\, via Zoom\, on Tuesday\, Februa
 ry 2nd at 7:45. At this meeting we will be voting on (3) Board Positions\,
  reviewing the Annual Report\, reviewing re-opening procedures\, and answe
 ring any questions that the membership has. There are (3) Director&amp;hellip\
 ;
CATEGORIES:General
URL;VALUE=URI:https://ceiliofthevalley.org/mc-events/ceili-of-the-valley-an
 nual-meeting/
METHOD:PUBLISH
END:VEVENT
END:VCALENDAR