BEGIN:VCALENDAR
VERSION:2.0
PRODID:spatie/icalendar-generator
DESCRIPTION:Events from Ceili of the Valley | Salem\, Oregon
X-WR-CALDESC:Events from Ceili of the Valley | Salem\, Oregon
REFRESH-INTERVAL;VALUE=DURATION:PT1440M
X-PUBLISHED-TTL:PT1440M
BEGIN:VTIMEZONE
TZID:America/Los_Angeles
BEGIN:STANDARD
DTSTART:20251102T020000Z
TZOFFSETFROM:-0700
TZOFFSETTO:-0800
END:STANDARD
BEGIN:DAYLIGHT
DTSTART:20260308T020000Z
TZOFFSETFROM:-0800
TZOFFSETTO:-0700
END:DAYLIGHT
END:VTIMEZONE
BEGIN:VTIMEZONE
TZID:UTC
BEGIN:STANDARD
DTSTART:20250728T050241Z
TZOFFSETFROM:+0000
TZOFFSETTO:+0000
END:STANDARD
END:VTIMEZONE
BEGIN:VEVENT
UID:549-104
DTSTAMP:20260424T050241Z
SUMMARY:International Dance Day
LOCATION:
ORGANIZER;CN=Secretary:MAILTO:gslw3014@gmail.com
DTSTART;TZID=America/Los_Angeles:20260425T100000
DTEND;TZID=America/Los_Angeles:20260425T110000
X-ALT-DESC;FMTTYPE=TEXT/HTML:Location: Salem Saturday Market\,  800 Union 
 St NE at 10:00am Ceili of the Valley will do a short demonstration and inv
 ite the audience to participate to celebrate International Dance Day
CATEGORIES:dance
URL;VALUE=URI:https://ceiliofthevalley.org/mc-events/international-dance-da
 y-6/
METHOD:PUBLISH
END:VEVENT
END:VCALENDAR