BEGIN:VCALENDAR
VERSION:2.0
PRODID:spatie/icalendar-generator
DESCRIPTION:Events from Ceili of the Valley | Salem\, Oregon
X-WR-CALDESC:Events from Ceili of the Valley | Salem\, Oregon
REFRESH-INTERVAL;VALUE=DURATION:PT1440M
X-PUBLISHED-TTL:PT1440M
BEGIN:VTIMEZONE
TZID:America/Los_Angeles
BEGIN:STANDARD
DTSTART:20251102T020000Z
TZOFFSETFROM:-0700
TZOFFSETTO:-0800
END:STANDARD
BEGIN:DAYLIGHT
DTSTART:20260308T020000Z
TZOFFSETFROM:-0800
TZOFFSETTO:-0700
END:DAYLIGHT
END:VTIMEZONE
BEGIN:VTIMEZONE
TZID:UTC
BEGIN:STANDARD
DTSTART:20250728T120139Z
TZOFFSETFROM:+0000
TZOFFSETTO:+0000
END:STANDARD
END:VTIMEZONE
BEGIN:VEVENT
UID:489-72
DTSTAMP:20260424T120139Z
SUMMARY:Irish &amp;amp\; Scottish Dance Class
LOCATION:
ORGANIZER;CN=Secretary:MAILTO:gslw3014@gmail.com
RRULE:FREQ=WEEKLY;UNTIL=20251230T000000Z
DTSTART;TZID=America/Los_Angeles:20251223T183000
DTEND;TZID=America/Los_Angeles:20251223T200000
X-ALT-DESC;FMTTYPE=TEXT/HTML:First dance class is free! No experience or pa
 rtner needed! Close-toed athletic shoes recommended and bring water. Begin
 ners always welcomed. At: VFW Hall\, 630 Hood St NE\, Salem
CATEGORIES:General
URL;VALUE=URI:https://ceiliofthevalley.org/mc-events/irish-scottish-dance-c
 lass-2/?mc_id=489
METHOD:PUBLISH
END:VEVENT
END:VCALENDAR