BEGIN:VCALENDAR
VERSION:2.0
PRODID:spatie/icalendar-generator
DESCRIPTION:Events from Ceili of the Valley | Salem\, Oregon
X-WR-CALDESC:Events from Ceili of the Valley | Salem\, Oregon
REFRESH-INTERVAL;VALUE=DURATION:PT1440M
X-PUBLISHED-TTL:PT1440M
BEGIN:VTIMEZONE
TZID:America/Los_Angeles
BEGIN:DAYLIGHT
DTSTART:20200308T020000Z
TZOFFSETFROM:-0800
TZOFFSETTO:-0700
END:DAYLIGHT
BEGIN:STANDARD
DTSTART:20201101T020000Z
TZOFFSETFROM:-0700
TZOFFSETTO:-0800
END:STANDARD
BEGIN:DAYLIGHT
DTSTART:20210314T020000Z
TZOFFSETFROM:-0800
TZOFFSETTO:-0700
END:DAYLIGHT
END:VTIMEZONE
BEGIN:VTIMEZONE
TZID:UTC
BEGIN:STANDARD
DTSTART:20250728T072537Z
TZOFFSETFROM:+0000
TZOFFSETTO:+0000
END:STANDARD
END:VTIMEZONE
BEGIN:VEVENT
UID:105-3
DTSTAMP:20260424T072537Z
SUMMARY:Jim &amp;amp\; Susie Malcom | 'Live from Scotland' Concert
LOCATION:
ORGANIZER;CN=Secretary:MAILTO:gslw3014@gmail.com
DTSTART;TZID=America/Los_Angeles:20201003T190000
DTEND;TZID=America/Los_Angeles:20201003T200000
X-ALT-DESC;FMTTYPE=TEXT/HTML:Scottish folk singers/songwriters live via (th
 eir Zoom Room). Go to https://celticfestival.info/ for registration inform
 ation.
CATEGORIES:General
URL;VALUE=URI:https://ceiliofthevalley.org/mc-events/jim-susie-malcom-live-
 from-scotland-concert/
METHOD:PUBLISH
END:VEVENT
END:VCALENDAR