BEGIN:VCALENDAR
VERSION:2.0
PRODID:spatie/icalendar-generator
DESCRIPTION:Events from Ceili of the Valley | Salem\, Oregon
X-WR-CALDESC:Events from Ceili of the Valley | Salem\, Oregon
REFRESH-INTERVAL;VALUE=DURATION:PT1440M
X-PUBLISHED-TTL:PT1440M
BEGIN:VTIMEZONE
TZID:America/Los_Angeles
BEGIN:DAYLIGHT
DTSTART:20200308T020000Z
TZOFFSETFROM:-0800
TZOFFSETTO:-0700
END:DAYLIGHT
BEGIN:STANDARD
DTSTART:20201101T020000Z
TZOFFSETFROM:-0700
TZOFFSETTO:-0800
END:STANDARD
BEGIN:DAYLIGHT
DTSTART:20210314T020000Z
TZOFFSETFROM:-0800
TZOFFSETTO:-0700
END:DAYLIGHT
END:VTIMEZONE
BEGIN:VTIMEZONE
TZID:UTC
BEGIN:STANDARD
DTSTART:20250728T073020Z
TZOFFSETFROM:+0000
TZOFFSETTO:+0000
END:STANDARD
END:VTIMEZONE
BEGIN:VEVENT
UID:106-4
DTSTAMP:20260424T073020Z
SUMMARY:Live Event | Ireland’s Revolutionary Years (1916-1923) with Aisli
 nn Adams
LOCATION:
ORGANIZER;CN=Secretary:MAILTO:gslw3014@gmail.com
DTSTART;TZID=America/Los_Angeles:20201010T190000
DTEND;TZID=America/Los_Angeles:20201010T200000
X-ALT-DESC;FMTTYPE=TEXT/HTML:Aislinn has been researching her family histor
 y\, in particular her grandmother Annie Malone’s story. Annie Malone was
  involved in the 1916 Rising and the Irish War of Independence. Through th
 is research Aislinn has studied this period in Irish history and will shar
 e what she has learned in her workshop at the Samhain Festival. To registe
 r&amp;hellip\;
CATEGORIES:General
URL;VALUE=URI:https://ceiliofthevalley.org/mc-events/live-event-irelands-re
 volutionary-years-1916-1923-with-aislinn-adams/
METHOD:PUBLISH
END:VEVENT
END:VCALENDAR