BEGIN:VCALENDAR
VERSION:2.0
PRODID:spatie/icalendar-generator
DESCRIPTION:Events from Ceili of the Valley | Salem\, Oregon
X-WR-CALDESC:Events from Ceili of the Valley | Salem\, Oregon
REFRESH-INTERVAL;VALUE=DURATION:PT1440M
X-PUBLISHED-TTL:PT1440M
BEGIN:VTIMEZONE
TZID:America/Los_Angeles
BEGIN:DAYLIGHT
DTSTART:20200308T020000Z
TZOFFSETFROM:-0800
TZOFFSETTO:-0700
END:DAYLIGHT
BEGIN:STANDARD
DTSTART:20201101T020000Z
TZOFFSETFROM:-0700
TZOFFSETTO:-0800
END:STANDARD
BEGIN:DAYLIGHT
DTSTART:20210314T020000Z
TZOFFSETFROM:-0800
TZOFFSETTO:-0700
END:DAYLIGHT
END:VTIMEZONE
BEGIN:VTIMEZONE
TZID:UTC
BEGIN:STANDARD
DTSTART:20250728T072536Z
TZOFFSETFROM:+0000
TZOFFSETTO:+0000
END:STANDARD
END:VTIMEZONE
BEGIN:VEVENT
UID:109-5
DTSTAMP:20260424T072536Z
SUMMARY:Live Event | Irish Sean-nós Dance with Maldon Meehan
LOCATION:
ORGANIZER;CN=Secretary:MAILTO:gslw3014@gmail.com
DTSTART;TZID=America/Los_Angeles:20201117T190000
DTEND;TZID=America/Los_Angeles:20201117T200000
X-ALT-DESC;FMTTYPE=TEXT/HTML:Join us for a presentation on Irish Sean-nós 
 dance. The presentation will include performance\, video demonstration and
  discussion on Sean-nós dance. To register for this workshop\, go to http
 s://celticfestival.info/live-events/
CATEGORIES:General
URL;VALUE=URI:https://ceiliofthevalley.org/mc-events/live-event-irish-sean-
 nos-dance-with-maldon-meehan/
METHOD:PUBLISH
END:VEVENT
END:VCALENDAR