BEGIN:VCALENDAR
VERSION:2.0
PRODID:spatie/icalendar-generator
DESCRIPTION:Events from Ceili of the Valley | Salem\, Oregon
X-WR-CALDESC:Events from Ceili of the Valley | Salem\, Oregon
REFRESH-INTERVAL;VALUE=DURATION:PT1440M
X-PUBLISHED-TTL:PT1440M
BEGIN:VTIMEZONE
TZID:America/Los_Angeles
BEGIN:DAYLIGHT
DTSTART:20200308T020000Z
TZOFFSETFROM:-0800
TZOFFSETTO:-0700
END:DAYLIGHT
BEGIN:STANDARD
DTSTART:20201101T020000Z
TZOFFSETFROM:-0700
TZOFFSETTO:-0800
END:STANDARD
BEGIN:DAYLIGHT
DTSTART:20210314T020000Z
TZOFFSETFROM:-0800
TZOFFSETTO:-0700
END:DAYLIGHT
END:VTIMEZONE
BEGIN:VTIMEZONE
TZID:UTC
BEGIN:STANDARD
DTSTART:20250728T072658Z
TZOFFSETFROM:+0000
TZOFFSETTO:+0000
END:STANDARD
END:VTIMEZONE
BEGIN:VEVENT
UID:108-6
DTSTAMP:20260424T072658Z
SUMMARY:Live Event | Whisky Tasting with Bill Mullen
LOCATION:
ORGANIZER;CN=Secretary:MAILTO:gslw3014@gmail.com
DTSTART;TZID=America/Los_Angeles:20201024T173000
DTEND;TZID=America/Los_Angeles:20201024T183000
X-ALT-DESC;FMTTYPE=TEXT/HTML:Bill Mullen will introduce the origins\, histo
 ry\, process\, geography\, and some tips &amp;amp\; tricks in the wonderful wo
 rld of whisky. This will be a fun session and even more fun if you have th
 e whiskies with you and join in the tasting. To register for this workshop
 \, go to https://celticfestival.info/live-events/
CATEGORIES:General
URL;VALUE=URI:https://ceiliofthevalley.org/mc-events/live-event-whisky-tast
 ing-with-bill-mullen/
METHOD:PUBLISH
END:VEVENT
END:VCALENDAR