BEGIN:VCALENDAR
VERSION:2.0
PRODID:spatie/icalendar-generator
DESCRIPTION:Events from Ceili of the Valley | Salem\, Oregon
X-WR-CALDESC:Events from Ceili of the Valley | Salem\, Oregon
REFRESH-INTERVAL;VALUE=DURATION:PT1440M
X-PUBLISHED-TTL:PT1440M
BEGIN:VTIMEZONE
TZID:America/Los_Angeles
BEGIN:STANDARD
DTSTART:20201101T020000Z
TZOFFSETFROM:-0700
TZOFFSETTO:-0800
END:STANDARD
BEGIN:DAYLIGHT
DTSTART:20210314T020000Z
TZOFFSETFROM:-0800
TZOFFSETTO:-0700
END:DAYLIGHT
END:VTIMEZONE
BEGIN:VTIMEZONE
TZID:UTC
BEGIN:STANDARD
DTSTART:20250728T092813Z
TZOFFSETFROM:+0000
TZOFFSETTO:+0000
END:STANDARD
END:VTIMEZONE
BEGIN:VEVENT
UID:110-7
DTSTAMP:20260424T092813Z
SUMMARY:Robert Burns Day Concert
LOCATION:
ORGANIZER;CN=Secretary:MAILTO:gslw3014@gmail.com
DTSTART;TZID=America/Los_Angeles:20210123T190000
DTEND;TZID=America/Los_Angeles:20210123T200000
X-ALT-DESC;FMTTYPE=TEXT/HTML:Céilí of the Valley Society will be hosting 
 a virtual concert with Peter Daldry\, a native of Clydebank\, Scotland. Th
 e concert will be Saturday\, January 23rd\, at 7:00 P.M. Pacific Time. To 
 Register: https://forms.gle/Hgyaigjp7fFTLiP19
CATEGORIES:General
URL;VALUE=URI:https://ceiliofthevalley.org/mc-events/robert-burns-day-conce
 rt/
METHOD:PUBLISH
END:VEVENT
END:VCALENDAR