BEGIN:VCALENDAR
VERSION:2.0
PRODID:spatie/icalendar-generator
DESCRIPTION:Events from Ceili of the Valley | Salem\, Oregon
X-WR-CALDESC:Events from Ceili of the Valley | Salem\, Oregon
REFRESH-INTERVAL;VALUE=DURATION:PT1440M
X-PUBLISHED-TTL:PT1440M
BEGIN:VTIMEZONE
TZID:America/Los_Angeles
BEGIN:STANDARD
DTSTART:20251102T020000Z
TZOFFSETFROM:-0700
TZOFFSETTO:-0800
END:STANDARD
BEGIN:DAYLIGHT
DTSTART:20260308T020000Z
TZOFFSETFROM:-0800
TZOFFSETTO:-0700
END:DAYLIGHT
END:VTIMEZONE
BEGIN:VTIMEZONE
TZID:UTC
BEGIN:STANDARD
DTSTART:20250728T081718Z
TZOFFSETFROM:+0000
TZOFFSETTO:+0000
END:STANDARD
END:VTIMEZONE
BEGIN:VEVENT
UID:539-102
DTSTAMP:20260424T081718Z
SUMMARY:St. Patrick's Day Celebration at Snow Peak Brewery
LOCATION:
ORGANIZER;CN=Secretary:MAILTO:gslw3014@gmail.com
DTSTART;TZID=America/Los_Angeles:20260314T160000
DTEND;TZID=America/Los_Angeles:20260314T170000
X-ALT-DESC;FMTTYPE=TEXT/HTML:&amp;nbsp\; Snow Peak Brewing\, 280 E Water St\, S
 tayton Ceili of the Valley Demo Team will perform at 4pm followed by audie
 nce participation.  Stay to watch a performance from Irish dancing studen
 ts.  The evening will finish up with live music and maybe some impromptu 
 dancing!  We hope to see you there. &amp;nbsp\;
CATEGORIES:dance
URL;VALUE=URI:https://ceiliofthevalley.org/mc-events/st-patricks-day-celebr
 ation-at-snow-peak-brewery/
METHOD:PUBLISH
END:VEVENT
END:VCALENDAR