BEGIN:VCALENDAR
VERSION:2.0
PRODID:spatie/icalendar-generator
DESCRIPTION:Events from Ceili of the Valley | Salem\, Oregon
X-WR-CALDESC:Events from Ceili of the Valley | Salem\, Oregon
REFRESH-INTERVAL;VALUE=DURATION:PT1440M
X-PUBLISHED-TTL:PT1440M
BEGIN:VTIMEZONE
TZID:America/Los_Angeles
BEGIN:STANDARD
DTSTART:20251102T020000Z
TZOFFSETFROM:-0700
TZOFFSETTO:-0800
END:STANDARD
BEGIN:DAYLIGHT
DTSTART:20260308T020000Z
TZOFFSETFROM:-0800
TZOFFSETTO:-0700
END:DAYLIGHT
END:VTIMEZONE
BEGIN:VTIMEZONE
TZID:UTC
BEGIN:STANDARD
DTSTART:20250728T101437Z
TZOFFSETFROM:+0000
TZOFFSETTO:+0000
END:STANDARD
END:VTIMEZONE
BEGIN:VEVENT
UID:538-101
DTSTAMP:20260424T101437Z
SUMMARY:St. Patrick's Day Walk-About
LOCATION:
ORGANIZER;CN=Secretary:MAILTO:gslw3014@gmail.com
DTSTART;TZID=America/Los_Angeles:20260314T113000
DTEND;TZID=America/Los_Angeles:20260314T123000
X-ALT-DESC;FMTTYPE=TEXT/HTML:Save the Date: 15th Annual St. Patrick’s Da
 y Walk-about Saturday\, March 14th at Noon Wear your favorite green attire
 !  Join Céili of the Valley at Salem’s Riverfront Park Carousel. Learn
  more about the Walk About Parade will include members from the Willamette
  Valley Pipes &amp;amp\; Drums.
CATEGORIES:dance
URL;VALUE=URI:https://ceiliofthevalley.org/mc-events/st-patricks-day-walk-a
 bout-3/
METHOD:PUBLISH
END:VEVENT
END:VCALENDAR