BEGIN:VCALENDAR
VERSION:2.0
PRODID:spatie/icalendar-generator
DESCRIPTION:Events from Ceili of the Valley | Salem\, Oregon
X-WR-CALDESC:Events from Ceili of the Valley | Salem\, Oregon
REFRESH-INTERVAL;VALUE=DURATION:PT1440M
X-PUBLISHED-TTL:PT1440M
BEGIN:VTIMEZONE
TZID:America/Los_Angeles
BEGIN:DAYLIGHT
DTSTART:19700426T020000Z
TZOFFSETFROM:-0800
TZOFFSETTO:-0700
END:DAYLIGHT
BEGIN:STANDARD
DTSTART:19701025T020000Z
TZOFFSETFROM:-0700
TZOFFSETTO:-0800
END:STANDARD
BEGIN:DAYLIGHT
DTSTART:19710425T020000Z
TZOFFSETFROM:-0800
TZOFFSETTO:-0700
END:DAYLIGHT
END:VTIMEZONE
BEGIN:VTIMEZONE
TZID:UTC
BEGIN:STANDARD
DTSTART:20250728T051532Z
TZOFFSETFROM:+0000
TZOFFSETTO:+0000
END:STANDARD
END:VTIMEZONE
BEGIN:VEVENT
UID:103-2
DTSTAMP:20260424T051532Z
SUMMARY:Weekly Class
LOCATION:
ORGANIZER;CN=Jessica Boone:MAILTO:jess.boone12@gmail.com
RRULE:FREQ=WEEKLY;COUNT=51
DTSTART;TZID=America/Los_Angeles:19701217T183000
DTEND;TZID=America/Los_Angeles:19701217T203000
X-ALT-DESC;FMTTYPE=TEXT/HTML:
CATEGORIES:General
URL;VALUE=URI:https://ceiliofthevalley.org/mc-events/weekly-class/?mc_id=10
 3
METHOD:PUBLISH
END:VEVENT
END:VCALENDAR